BEGIN:VCALENDAR
VERSION:2.0
PRODID:-//ChamberMaster//Event Calendar 2.0//EN
METHOD:PUBLISH
X-PUBLISHED-TTL:P3D
REFRESH-INTERVAL:P3D
CALSCALE:GREGORIAN
BEGIN:VEVENT
DTSTART:20161022T194500Z
DTEND:20161022T230000Z
X-MICROSOFT-CDO-ALLDAYEVENT:FALSE
SUMMARY:Race to the Altar
DESCRIPTION:Come watch 4 engaged couples compete for a GRAND PRIZE of $500!!\n\n*2:45pm - Cake Decorating at Fiesta Foods\n\n*3:15pm - Flower Arranging at Lake Pepin Floral\n\n *3:45pm - Bridal Bouquet Toss and Groom Ball & Chain Drag at corner of Lakeshore Dr and Center St\n\n*4:15pm - Wedding Hair Styling at Shear Wizards\n\n*4:45pm - Save the Date Postcards at Creative Minds\n\n *5:15pm - The Newlywed Game at Port 104
X-ALT-DESC;FMTTYPE=text/html:Come watch 4 engaged couples compete for a GRAND PRIZE of $500!!<br />\n*2:45pm - Cake Decorating at Fiesta Foods<br />\n*3:15pm - Flower Arranging at Lake Pepin Floral<br />\n&#8203\;*3:45pm - Bridal Bouquet Toss&nbsp\;and Groom Ball &amp\; Chain Drag at corner of Lakeshore Dr and Center St<br />\n*4:15pm - Wedding Hair Styling at Shear Wizards<br />\n*4:45pm - Save the Date Postcards at Creative Minds<br />\n&#8203\;*5:15pm - The Newlywed Game at Port 104
LOCATION:
UID:e.621.5471
SEQUENCE:3
DTSTAMP:20260422T115042Z
URL:https://public.lakecity.org/events/details/race-to-the-altar-5471
END:VEVENT

END:VCALENDAR
