BEGIN:VCALENDAR
VERSION:2.0
PRODID:-//ChamberMaster//Event Calendar 2.0//EN
METHOD:PUBLISH
X-PUBLISHED-TTL:P3D
REFRESH-INTERVAL:P3D
CALSCALE:GREGORIAN
BEGIN:VEVENT
DTSTART:20141113T190000Z
DTEND:20141114T200000Z
X-MICROSOFT-CDO-ALLDAYEVENT:FALSE
SUMMARY:Red Cross Bloodmobile Drive
DESCRIPTION:The Red Cross Bloodmobile will be in Lake City at the United Methodist Church on Thursday\, November 13 from 1:00-7:00 and Friday\, November 14 from 9:00 am to 2:00 pm.
X-ALT-DESC;FMTTYPE=text/html:The Red Cross Bloodmobile will be in Lake City at the United Methodist Church on Thursday\, November 13 from 1:00-7:00 and Friday\, November 14 from 9:00 am to 2:00 pm.
LOCATION:United Methodist Church 213 N. Oak Street Lake City\, MN 55041
UID:e.621.4304
SEQUENCE:3
DTSTAMP:20260425T111607Z
URL:https://public.lakecity.org/events/details/red-cross-bloodmobile-drive-11-13-2014-4304
END:VEVENT

END:VCALENDAR
