BEGIN:VCALENDAR
VERSION:2.0
PRODID:-//ChamberMaster//Event Calendar 2.0//EN
METHOD:PUBLISH
X-PUBLISHED-TTL:P3D
REFRESH-INTERVAL:P3D
CALSCALE:GREGORIAN
BEGIN:VEVENT
DTSTART;VALUE=DATE:20150411
DTEND;VALUE=DATE:20150412
TRANSP:TRANSPARENT
X-MICROSOFT-CDO-ALLDAYEVENT:TRUE
SUMMARY:Red Cross Fire Alarm
DESCRIPTION:Red Cross Smoke Alarm Program  http://cloud.chambermaster.com/userfiles/UserFiles/chambers/621/File/RedCrossSmokeAlarmProjectOverview.pdf
X-ALT-DESC;FMTTYPE=text/html:Red Cross Smoke Alarm Program&nbsp\;&nbsp\;<a href="http://cloud.chambermaster.com/userfiles/UserFiles/chambers/621/File/RedCrossSmokeAlarmProjectOverview.pdf">http://cloud.chambermaster.com/userfiles/UserFiles/chambers/621/File/RedCrossSmokeAlarmProjectOverview.pdf</a>
LOCATION:
UID:e.621.4407
SEQUENCE:3
DTSTAMP:20260425T020710Z
URL:https://public.lakecity.org/events/details/red-cross-fire-alarm-04-11-2015-4407
END:VEVENT

END:VCALENDAR
