BEGIN:VCALENDAR
VERSION:2.0
PRODID:-//ChamberMaster//Event Calendar 2.0//EN
METHOD:PUBLISH
X-PUBLISHED-TTL:P3D
REFRESH-INTERVAL:P3D
CALSCALE:GREGORIAN
BEGIN:VEVENT
DTSTART;VALUE=DATE:20150418
DTEND;VALUE=DATE:20150419
TRANSP:TRANSPARENT
X-MICROSOFT-CDO-ALLDAYEVENT:TRUE
SUMMARY:Red Cross Smoke Alarm Project
DESCRIPTION:Red Cross Smoke Alarm Project \n\n\n\nClick here for complete information
X-ALT-DESC;FMTTYPE=text/html:Red Cross Smoke Alarm Project&nbsp\;<br />\n<br />\n<a href="http://cloud.chambermaster.com/userfiles/UserFiles/chambers/621/File/RedCrossSmokeAlarmProjectOverview.pdf">Click here for complete information</a>
LOCATION:
UID:e.621.4408
SEQUENCE:3
DTSTAMP:20260425T015253Z
URL:https://public.lakecity.org/events/details/red-cross-smoke-alarm-project-04-18-2015-4408
END:VEVENT

END:VCALENDAR
