BEGIN:VCALENDAR
VERSION:2.0
PRODID:-//ChamberMaster//Event Calendar 2.0//EN
METHOD:PUBLISH
X-PUBLISHED-TTL:P3D
REFRESH-INTERVAL:P3D
CALSCALE:GREGORIAN
BEGIN:VEVENT
DTSTART:20160721T130000Z
DTEND:20160808T010000Z
X-MICROSOFT-CDO-ALLDAYEVENT:FALSE
SUMMARY:Reflections
DESCRIPTION:Local artists will hold an exhibit titled "Reflections" at the Lake City Marina. This is a combined show\, featuring original works from Lake City Show and Share Artists and the Lake City Photography Group. Paintings and photographs will be for sale.
X-ALT-DESC;FMTTYPE=text/html:Local artists will hold an exhibit titled &quot\;Reflections&quot\; at the Lake City Marina. This is a combined show\, featuring original works from Lake City Show and Share Artists and the Lake City Photography Group. Paintings and photographs will be for sale.
LOCATION:Lake City Marina
UID:e.621.5090
SEQUENCE:3
DTSTAMP:20260422T141354Z
URL:https://public.lakecity.org/events/details/reflections-07-21-2016-5090
END:VEVENT

END:VCALENDAR
