BEGIN:VCALENDAR
VERSION:2.0
PRODID:-//ChamberMaster//Event Calendar 2.0//EN
METHOD:PUBLISH
X-PUBLISHED-TTL:P3D
REFRESH-INTERVAL:P3D
CALSCALE:GREGORIAN
BEGIN:VEVENT
DTSTART:20160721T230000Z
DTEND:20160722T010000Z
X-MICROSOFT-CDO-ALLDAYEVENT:FALSE
SUMMARY:Reflections Grand Opening
DESCRIPTION:Join us for the grand opening of the Reflections Art Exhibit at the Lake City Marina\, from 6:00 pm to 8 pm. You'll be able to meet and visit with the artists and photographers who created the exhibit. Desserts and lite refreshments will be served.
X-ALT-DESC;FMTTYPE=text/html:Join us for the grand opening of the Reflections Art Exhibit at the Lake City Marina\, from 6:00 pm to 8 pm. You&#39\;ll be able to meet and visit with the artists and photographers who created the exhibit. Desserts and lite refreshments will be served.
LOCATION:Lake City Marina
UID:e.621.5091
SEQUENCE:3
DTSTAMP:20260422T155026Z
URL:https://public.lakecity.org/events/details/reflections-grand-opening-07-21-2016-5091
END:VEVENT

END:VCALENDAR
