BEGIN:VCALENDAR
VERSION:2.0
PRODID:-//ChamberMaster//Event Calendar 2.0//EN
METHOD:PUBLISH
X-PUBLISHED-TTL:P3D
REFRESH-INTERVAL:P3D
CALSCALE:GREGORIAN
BEGIN:VEVENT
DTSTART:20141120T220000Z
DTEND:20141121T000000Z
X-MICROSOFT-CDO-ALLDAYEVENT:FALSE
SUMMARY:Ribbon Cutting
DESCRIPTION:We will be having our Ribbon Cutting with beverages and snacks to follow to thank the Ambassadors and Chamber of Commerce for welcoming us to the business community. Please stop in and introduce yourself. We are excited to be a part of and actively participate in the Lake City business community.\n\n\n\nJill Minette-Stacey and Randy Johnsrud\n\nWaddell & Reed Financial Advisors
X-ALT-DESC;FMTTYPE=text/html:We will be having our Ribbon Cutting with beverages and snacks to follow to thank the Ambassadors and Chamber of Commerce for welcoming us to the business community. Please stop in and introduce yourself. We are excited to be a part of and actively participate in the Lake City business community.<br />\n<br />\nJill Minette-Stacey and Randy Johnsrud<br />\nWaddell &amp\; Reed Financial Advisors
LOCATION:JMC Building\, 108 West Center Street\, Lake City
UID:e.621.4310
SEQUENCE:3
DTSTAMP:20260425T111417Z
URL:https://public.lakecity.org/events/details/ribbon-cutting-11-20-2014-4310
END:VEVENT

END:VCALENDAR
