BEGIN:VCALENDAR
VERSION:2.0
PRODID:-//ChamberMaster//Event Calendar 2.0//EN
METHOD:PUBLISH
X-PUBLISHED-TTL:P3D
REFRESH-INTERVAL:P3D
CALSCALE:GREGORIAN
BEGIN:VEVENT
DTSTART:20180320T230000Z
DTEND:20180321T003000Z
X-MICROSOFT-CDO-ALLDAYEVENT:FALSE
SUMMARY:Riding Shotgun with author Paul Schaefer
DESCRIPTION:Wisconsin resident and farmer Paul Schaefer will discuss his first novel about an 80-year-old's hilarious cross-country adventure to visit her sister.
X-ALT-DESC;FMTTYPE=text/html:Wisconsin resident and farmer Paul Schaefer will discuss his first novel about an 80-year-old&#39\;s hilarious cross-country adventure to visit her sister.
LOCATION:Lake City Public Library
UID:e.621.6839
SEQUENCE:3
DTSTAMP:20260421T082029Z
URL:https://public.lakecity.org/events/details/riding-shotgun-with-author-paul-schaefer-6839
END:VEVENT

END:VCALENDAR
