BEGIN:VCALENDAR
VERSION:2.0
PRODID:-//ChamberMaster//Event Calendar 2.0//EN
METHOD:PUBLISH
X-PUBLISHED-TTL:P3D
REFRESH-INTERVAL:P3D
CALSCALE:GREGORIAN
BEGIN:VEVENT
DTSTART:20160618T160000Z
DTEND:20160618T160000Z
X-MICROSOFT-CDO-ALLDAYEVENT:FALSE
SUMMARY:River Chat
DESCRIPTION:Join the National Eagle Center during the summer months for River Chat\, every 1st and 3rd Saturday at 11:00am. These educational nature talks by an expert natural cover a range of topics concerning the Upper Mississippi River Watershed\, including its ecology\, wildlife\, history and current issues. Chats are FREE to the public\, run around 45 minutes and are held outdoors by the Chief Wapasha statue. (weather permitting)
X-ALT-DESC;FMTTYPE=text/html:Join the National Eagle Center during the summer months for River Chat\, every 1st and 3rd Saturday at 11:00am. These educational nature talks by an expert natural cover a range of topics concerning the Upper Mississippi River Watershed\, including its ecology\, wildlife\, history and current issues. Chats are <em><strong>FREE</strong></em> to the public\, run around 45 minutes and are held outdoors by the Chief Wapasha statue. (weather permitting)
LOCATION:National Eagle Center
UID:e.621.5074
SEQUENCE:3
DTSTAMP:20260422T182553Z
URL:https://public.lakecity.org/events/details/river-chat-06-18-2016-5074
END:VEVENT

END:VCALENDAR
