BEGIN:VCALENDAR
VERSION:2.0
PRODID:-//ChamberMaster//Event Calendar 2.0//EN
METHOD:PUBLISH
X-PUBLISHED-TTL:P3D
REFRESH-INTERVAL:P3D
CALSCALE:GREGORIAN
BEGIN:VEVENT
DTSTART:20141004T220000Z
DTEND:20141005T000000Z
X-MICROSOFT-CDO-ALLDAYEVENT:FALSE
SUMMARY:Rochester Big Band
DESCRIPTION:Rochester Big Band\n\nDance & Concert\n\nProduced by the Lake City Woman's Club
X-ALT-DESC;FMTTYPE=text/html:Rochester Big Band<br />\nDance &amp\; Concert<br />\nProduced by the Lake City Woman&#39\;s Club
LOCATION:Lincoln High School Auditorium
UID:e.621.4290
SEQUENCE:3
DTSTAMP:20260425T111449Z
URL:https://public.lakecity.org/events/details/rochester-big-band-10-04-2014-4290
END:VEVENT

END:VCALENDAR
