BEGIN:VCALENDAR
VERSION:2.0
PRODID:-//ChamberMaster//Event Calendar 2.0//EN
METHOD:PUBLISH
X-PUBLISHED-TTL:P3D
REFRESH-INTERVAL:P3D
CALSCALE:GREGORIAN
BEGIN:VEVENT
DTSTART:20211205T190000Z
DTEND:20211205T210000Z
X-MICROSOFT-CDO-ALLDAYEVENT:FALSE
SUMMARY:Roger Rose- 2021 Artist of the Year Exhibit
DESCRIPTION:Lake City Area Arts\n\nPlease come enjoy and celebrate the art of Lake City's own Roger Rose.  This Federal Mogul retiree is a self taught artist\, who does phenomenal portraits\, abstract along with chalk and pencil sketches. Come meet Roger and enjoy his work December 4\, 5\, 11 and 12th.  Saturday noon-3PM and Sunday 1-3PM
X-ALT-DESC;FMTTYPE=text/html:<span id="docs-internal-guid-863ba8be-7fff-cab9-3bda-a625d810b1b1"><span style="font-size: 10.5pt\; font-family: Arial\; color: rgb(5\, 5\, 5)\; background-color: transparent\; font-variant-numeric: normal\; font-variant-east-asian: normal\; vertical-align: baseline\; white-space: pre-wrap\;"><strong><u>Lake City Area Arts</u></strong><br />\nPlease come enjoy and celebrate the art of Lake City&rsquo\;s own Roger Rose.&nbsp\; This Federal Mogul retiree is a self taught artist\, who does phenomenal portraits\, abstract along with chalk and pencil sketches. Come meet Roger and enjoy his work December 4\, 5\, 11 and 12th.&nbsp\; Saturday noon-3PM and Sunday 1-3PM</span></span>
LOCATION:
UID:e.621.8287
SEQUENCE:3
DTSTAMP:20260423T162813Z
URL:https://public.lakecity.org/events/details/roger-rose-2021-artist-of-the-year-exhibit-8287
END:VEVENT

END:VCALENDAR
