BEGIN:VCALENDAR
VERSION:2.0
PRODID:-//ChamberMaster//Event Calendar 2.0//EN
METHOD:PUBLISH
X-PUBLISHED-TTL:P3D
REFRESH-INTERVAL:P3D
CALSCALE:GREGORIAN
BEGIN:VEVENT
DTSTART:20161010T170000Z
DTEND:20161010T180000Z
X-MICROSOFT-CDO-ALLDAYEVENT:FALSE
SUMMARY:Rotary Club of Lake City
DESCRIPTION:Lake City Rotary Club welcomes new members. We meet every Monday at noon for a business meeting\, followed by a speaker. Please come join us
X-ALT-DESC;FMTTYPE=text/html:Lake City Rotary Club welcomes new members. We meet every Monday at noon for a business meeting\, followed by a speaker. Please come join us
LOCATION:Port 104
UID:e.621.3348
SEQUENCE:3
DTSTAMP:20260422T115749Z
URL:https://public.lakecity.org/events/details/rotary-club-of-lake-city-10-10-2016-3348
END:VEVENT

END:VCALENDAR
