BEGIN:VCALENDAR
VERSION:2.0
PRODID:-//ChamberMaster//Event Calendar 2.0//EN
METHOD:PUBLISH
X-PUBLISHED-TTL:P3D
REFRESH-INTERVAL:P3D
CALSCALE:GREGORIAN
BEGIN:VEVENT
DTSTART:20151114T003000Z
DTEND:20151114T030000Z
X-MICROSOFT-CDO-ALLDAYEVENT:FALSE
SUMMARY:Rotary Wine\, Beer & Food Tasting
DESCRIPTION:Enjoy tasting new wines & brews and food too. Silent auction\, door prizes & more.....Bring friends and enjoy! Buy discounted spirits for your holiday celebrations!
X-ALT-DESC;FMTTYPE=text/html:Enjoy tasting new wines &amp\; brews and food too. Silent auction\, door prizes &amp\; more.....Bring friends and enjoy! Buy discounted spirits for your holiday celebrations!
LOCATION:Port 104 Bar & Grill Corner of N. Washington St. & E. Lyon Avenue\,Lake City\, MN 55041
UID:e.621.4504
SEQUENCE:3
DTSTAMP:20260424T153358Z
URL:https://public.lakecity.org/events/details/rotary-wine-beer-food-tasting-11-13-2015-4504
END:VEVENT

END:VCALENDAR
