BEGIN:VCALENDAR
VERSION:2.0
PRODID:-//ChamberMaster//Event Calendar 2.0//EN
METHOD:PUBLISH
X-PUBLISHED-TTL:P3D
REFRESH-INTERVAL:P3D
CALSCALE:GREGORIAN
BEGIN:VEVENT
DTSTART:20160909T130000Z
DTEND:20160910T220000Z
X-MICROSOFT-CDO-ALLDAYEVENT:FALSE
SUMMARY:Rummage Sale
DESCRIPTION:Gently used items. Clothing all sizes\, toys\, books\, games\, dishes\, holiday items\, furniture.
X-ALT-DESC;FMTTYPE=text/html:Gently used items. Clothing all sizes\, toys\, books\, games\, dishes\, holiday items\, furniture.
LOCATION:Bethany Lutheran Church 525 S 6th St. Lake City\, MN
UID:e.621.5405
SEQUENCE:3
DTSTAMP:20260422T131308Z
URL:https://public.lakecity.org/events/details/rummage-sale-09-09-2016-5405
END:VEVENT

END:VCALENDAR
