BEGIN:VCALENDAR
VERSION:2.0
PRODID:-//ChamberMaster//Event Calendar 2.0//EN
METHOD:PUBLISH
X-PUBLISHED-TTL:P3D
REFRESH-INTERVAL:P3D
CALSCALE:GREGORIAN
BEGIN:VEVENT
DTSTART:20150725T150000Z
DTEND:20150726T203000Z
X-MICROSOFT-CDO-ALLDAYEVENT:FALSE
SUMMARY:Sail for Leukemia
DESCRIPTION:July 25 and 26 between 10:00 and 3:30 the Lake City Yacht Club is sponsoring its 18th annual ?Go Sailing for Leukemia? event at the LC Marina and is inviting you to take a 1.5 hour sail to learn or just enjoy the sport. The event is co-sponsored by the Leukemia Society of America and the Lake City Yacht Club. All proceeds from the event go to the Leukemia Society in its on-going battle to defeat the disease. Suggested donation is $20 per adult and $15 per child. You may register by calling the Lake City Marina prior to July 25\, at 1-651-345-4211 or by registering online at www.lakecityyachtclub.com. Pre-registration is not required\, you are welcome to stop by the sailboat marina and schedule your ride the day of the event.
X-ALT-DESC;FMTTYPE=text/html:July 25 and 26 between 10:00 and 3:30 the Lake City Yacht Club is sponsoring its 18th annual ?Go Sailing for Leukemia? event at the LC Marina and is inviting you to take a 1.5 hour sail to learn or just enjoy the sport. The event is co-sponsored by the Leukemia Society of America and the Lake City Yacht Club. All proceeds from the event go to the Leukemia Society in its on-going battle to defeat the disease. Suggested donation is $20 per adult and $15 per child. You may register by calling the Lake City Marina prior to July 25\, at 1-651-345-4211 or by registering online at www.lakecityyachtclub.com. Pre-registration is not required\, you are welcome to stop by the sailboat marina and schedule your ride the day of the event.
LOCATION:Lake City Yacht Club\, Lake City Marina
UID:e.621.4449
SEQUENCE:3
DTSTAMP:20260424T225254Z
URL:https://public.lakecity.org/events/details/sail-for-leukemia-07-25-2015-4449
END:VEVENT

END:VCALENDAR
