BEGIN:VCALENDAR
VERSION:2.0
PRODID:-//ChamberMaster//Event Calendar 2.0//EN
METHOD:PUBLISH
X-PUBLISHED-TTL:P3D
REFRESH-INTERVAL:P3D
CALSCALE:GREGORIAN
BEGIN:VEVENT
DTSTART:20170730T150000Z
DTEND:20170730T200000Z
X-MICROSOFT-CDO-ALLDAYEVENT:FALSE
SUMMARY:Sail for Leukemia
DESCRIPTION:Lake City Yacht Club will be sponsoring the 21st Annual "Go Sailing for Leukemia" fund-raiser. Yacht Club members will be offering sailboat rides from the Lake City Marina to persons interested in experiencing the thrills of sailing and a great time on Lake Pepin. Rides will last approximately one and a half hours. Sail beautiful Lake Pepin and save lives. Some day is TODAY!
X-ALT-DESC;FMTTYPE=text/html:Lake City Yacht Club will be sponsoring the 21st Annual &quot\;Go Sailing for Leukemia&quot\; fund-raiser. Yacht Club members will be offering sailboat rides from the Lake City Marina to persons interested in experiencing the thrills of sailing and a great time on Lake Pepin. Rides will last approximately one and a half hours. Sail beautiful Lake Pepin and save lives. Some day is TODAY!
LOCATION:Lake City Yacht Club Lake City Marina 201 South Franklin Lake City MN 55041
UID:e.621.5690
SEQUENCE:3
DTSTAMP:20260421T232738Z
URL:https://public.lakecity.org/events/details/sail-for-leukemia-07-30-2017-5690
END:VEVENT

END:VCALENDAR
