BEGIN:VCALENDAR
VERSION:2.0
PRODID:-//ChamberMaster//Event Calendar 2.0//EN
METHOD:PUBLISH
X-PUBLISHED-TTL:P3D
REFRESH-INTERVAL:P3D
CALSCALE:GREGORIAN
BEGIN:VEVENT
DTSTART:20160731T150000Z
DTEND:20160731T200000Z
X-MICROSOFT-CDO-ALLDAYEVENT:FALSE
SUMMARY:Sail for Leukemia
DESCRIPTION:Lake City Yacht Club will be sponsoring the 20th annual "Go Sailing for Leukemia" fund-raiser. Yacht Club members will be offering sailboat rides from the Lake City Marina to persons interested in experiencing the thrills of sailing and a great time on Lake Pepin. Rides will last approximately one and a half hours.
X-ALT-DESC;FMTTYPE=text/html:Lake City Yacht Club will be sponsoring the 20th annual &quot\;Go Sailing for Leukemia&quot\; fund-raiser. Yacht Club members will be offering sailboat rides from the Lake City Marina to persons interested in experiencing the thrills of sailing and a great time on Lake Pepin. Rides will last approximately one and a half hours.
LOCATION:Lake City Yacht Club\, Lake City Marina (South)
UID:e.621.5241
SEQUENCE:3
DTSTAMP:20260422T170031Z
URL:https://public.lakecity.org/events/details/sail-for-leukemia-07-31-2016-5241
END:VEVENT

END:VCALENDAR
