BEGIN:VCALENDAR
VERSION:2.0
PRODID:-//ChamberMaster//Event Calendar 2.0//EN
METHOD:PUBLISH
X-PUBLISHED-TTL:P3D
REFRESH-INTERVAL:P3D
CALSCALE:GREGORIAN
BEGIN:VEVENT
DTSTART:20140907T010000Z
DTEND:20140907T030000Z
X-MICROSOFT-CDO-ALLDAYEVENT:FALSE
SUMMARY:Sail Pepin's Breakwater Live Music
DESCRIPTION:Yata Peinovich at Sail Pepin's Breakwater Wine Bar\n\nLive Music
X-ALT-DESC;FMTTYPE=text/html:Yata Peinovich at Sail Pepin&#39\;s Breakwater Wine Bar<br />\nLive Music
LOCATION:400 First St. Pepin\, WI
UID:e.621.4288
SEQUENCE:3
DTSTAMP:20260425T124856Z
URL:https://public.lakecity.org/events/details/sail-pepin-s-breakwater-live-music-09-06-2014-4288
END:VEVENT

END:VCALENDAR
