BEGIN:VCALENDAR
VERSION:2.0
PRODID:-//ChamberMaster//Event Calendar 2.0//EN
METHOD:PUBLISH
X-PUBLISHED-TTL:P3D
REFRESH-INTERVAL:P3D
CALSCALE:GREGORIAN
BEGIN:VEVENT
DTSTART;VALUE=DATE:20150620
DTEND;VALUE=DATE:20150622
TRANSP:TRANSPARENT
X-MICROSOFT-CDO-ALLDAYEVENT:TRUE
SUMMARY:Sailing Class
DESCRIPTION:The Lake City Yacht club will be teaching their basic sailing class on the Lake City beach over the weekend of June 20-21\, 2015.  After some basic instruction on Saturday morning\, students will be taking the fleet of 12 Sunfish sailboats out on the water for training and fun Saturday afternoon and Sunday.\n\n \n\nCost is $100 which includes a great book of basic sailing skills.
X-ALT-DESC;FMTTYPE=text/html:<span style="font-size: 10pt\;"><span style="font-family: arial\,sans-serif\;">The Lake City Yacht club will be teaching their basic sailing class on the Lake City beach over the weekend of June 20-21\, 2015.&nbsp\; After some basic instruction on Saturday morning\, students will be taking the fleet of 12 Sunfish sailboats out on the water for training and fun Saturday afternoon and Sunday.</span></span><br />\n&nbsp\;<br />\n<span style="font-size: 10pt\;"><span style="font-family: arial\,sans-serif\;">Cost is $100 which includes a great book of basic sailing skills.</span></span>
LOCATION:
UID:e.621.4443
SEQUENCE:3
DTSTAMP:20260424T225147Z
URL:https://public.lakecity.org/events/details/sailing-class-06-20-2015-4443
END:VEVENT

END:VCALENDAR
