BEGIN:VCALENDAR
VERSION:2.0
PRODID:-//ChamberMaster//Event Calendar 2.0//EN
METHOD:PUBLISH
X-PUBLISHED-TTL:P3D
REFRESH-INTERVAL:P3D
CALSCALE:GREGORIAN
BEGIN:VEVENT
DTSTART:20220731T160000Z
DTEND:20220731T160000Z
X-MICROSOFT-CDO-ALLDAYEVENT:FALSE
SUMMARY:Saint Paul Saints Game 2022
DESCRIPTION:The Saint Paul Saints are celebrating 100 years of Water Skiing with Lake City at their July 31st 2:00pm home game against the Iowa Cubs... and we rented a bus to bring the Lake City fam!\n\n\n\nThe bus will leave Lake City from Underwood Park at 11:00am. There will be about an hour for folks to see the sights in St. Paul's Lowertown or grab a bite to eat\, and the game will begin at 2:07pm.\n\n\n\nVisit Lake City will be setting up a display in the stadium\, we'll have a video for the big screen\, and we will be represented for the first pitch!\n\n\n\nWe have a block of 50 tickets reserved for the game and want Lake City to show out in full force!\n\n\n\nPrice is $30 for adults and $20 for kids 12 and under. Space is limited. It includes the bus ride and reserved seating for the game.\n\n\n\nThe bus will head back to Lake City following the game.
X-ALT-DESC;FMTTYPE=text/html:<span style="font-family:segoe ui emoji\,sans-serif\;">&#9918\;</span>&#65039\;<span style="font-family:segoe ui emoji\,sans-serif\;">&#128526\;</span>The Saint Paul Saints are celebrating 100 years of Water Skiing with Lake City at their July 31st 2:00pm home game against the Iowa Cubs... and we rented a bus to bring the Lake City fam!<br />\n<br />\nThe bus will leave Lake City from Underwood Park at 11:00am. There will be about an hour for folks to see the sights in St. Paul&#39\;s Lowertown or grab a bite to eat\, and the game will begin at 2:07pm.<br />\n<br />\nVisit Lake City will be setting up a display in the stadium\, we&#39\;ll have a video for the big screen\, and we will be represented for the first pitch!<br />\n<br />\nWe have a block of 50 tickets reserved for the game and want Lake City to show out in full force!<br />\n<br />\nPrice is $30 for adults and $20 for kids 12 and under. Space is limited. It includes the bus ride and reserved seating for the game.<br />\n<br />\nThe bus will head back to Lake City following the game.
LOCATION:
UID:e.621.8999
SEQUENCE:3
DTSTAMP:20260422T101522Z
URL:https://public.lakecity.org/events/details/saint-paul-saints-game-2022-8999
END:VEVENT

END:VCALENDAR
