BEGIN:VCALENDAR
VERSION:2.0
PRODID:-//ChamberMaster//Event Calendar 2.0//EN
METHOD:PUBLISH
X-PUBLISHED-TTL:P3D
REFRESH-INTERVAL:P3D
CALSCALE:GREGORIAN
BEGIN:VEVENT
DTSTART:20140819T160000Z
DTEND:20140819T180000Z
X-MICROSOFT-CDO-ALLDAYEVENT:FALSE
SUMMARY:Salad Luncheon
DESCRIPTION:Salad Luncheon\n\nServing Salads\, Bars\, and Bread\n\nCoffee\, Water\, and Lemonade
X-ALT-DESC;FMTTYPE=text/html:Salad Luncheon<br />\nServing Salads\, Bars\, and Bread<br />\nCoffee\, Water\, and Lemonade
LOCATION:St. John's Lutheran Church 520 W. Chestnut St. Lake City\, MN
UID:e.621.4266
SEQUENCE:3
DTSTAMP:20260425T142445Z
URL:https://public.lakecity.org/events/details/salad-luncheon-08-19-2014-4266
END:VEVENT

END:VCALENDAR
