BEGIN:VCALENDAR
VERSION:2.0
PRODID:-//ChamberMaster//Event Calendar 2.0//EN
METHOD:PUBLISH
X-PUBLISHED-TTL:P3D
REFRESH-INTERVAL:P3D
CALSCALE:GREGORIAN
BEGIN:VEVENT
DTSTART:20160206T010000Z
DTEND:20160206T030000Z
X-MICROSOFT-CDO-ALLDAYEVENT:FALSE
SUMMARY:SAMI DARE HYPNOTIST
DESCRIPTION:The Sami Dare Stage Hypnosis Show is hilarious fun for everyone! Members of your group become stars of a wonderfully creative and positively hilarious romp through the imagination. They become fishermen\, racecar drivers and movie stars. They eat ice cream cones\, speak foreign languages\, and may even forget their own names!
X-ALT-DESC;FMTTYPE=text/html:The Sami Dare Stage Hypnosis Show is hilarious fun for everyone! Members of your group become stars of a wonderfully creative and positively hilarious romp through the imagination. They become fishermen\, racecar drivers and movie stars. They eat ice cream cones\, speak foreign languages\, and may even forget their own names!
LOCATION:PORT 104 Lake City\, MN
UID:e.621.4544
SEQUENCE:3
DTSTAMP:20260424T103344Z
URL:https://public.lakecity.org/events/details/sami-dare-hypnotist-02-05-2016-4544
END:VEVENT

END:VCALENDAR
