BEGIN:VCALENDAR
VERSION:2.0
PRODID:-//ChamberMaster//Event Calendar 2.0//EN
METHOD:PUBLISH
X-PUBLISHED-TTL:P3D
REFRESH-INTERVAL:P3D
CALSCALE:GREGORIAN
BEGIN:VEVENT
DTSTART:20141004T140000Z
DTEND:20141004T180000Z
X-MICROSOFT-CDO-ALLDAYEVENT:FALSE
SUMMARY:Saturday Farmer's Market
DESCRIPTION:Come enjoy a wide variety of fresh produce\, baked goods\, canned goods\, hand-made crafts\, spices\, and fun!
X-ALT-DESC;FMTTYPE=text/html:Come enjoy a wide variety of fresh produce\, baked goods\, canned goods\, hand-made crafts\, spices\, and fun!
LOCATION:Corner of Center St & Washington St in downtown Lake City
UID:e.621.3819
SEQUENCE:3
DTSTAMP:20260425T124754Z
URL:https://public.lakecity.org/events/details/saturday-farmer-s-market-10-04-2014-3819
END:VEVENT

END:VCALENDAR
