BEGIN:VCALENDAR
VERSION:2.0
PRODID:-//ChamberMaster//Event Calendar 2.0//EN
METHOD:PUBLISH
X-PUBLISHED-TTL:P3D
REFRESH-INTERVAL:P3D
CALSCALE:GREGORIAN
BEGIN:VEVENT
DTSTART:20161001T140000Z
DTEND:20161001T180000Z
X-MICROSOFT-CDO-ALLDAYEVENT:FALSE
SUMMARY:Saturday Farmers Market
DESCRIPTION:Saturday Farmers Market
X-ALT-DESC;FMTTYPE=text/html:Saturday Farmers Market<br />\n&nbsp\;
LOCATION:Washington and Center Streets
UID:e.621.5268
SEQUENCE:3
DTSTAMP:20260422T115448Z
URL:https://public.lakecity.org/events/details/saturday-farmers-market-10-01-2016-5268
END:VEVENT

END:VCALENDAR
