BEGIN:VCALENDAR
VERSION:2.0
PRODID:-//ChamberMaster//Event Calendar 2.0//EN
METHOD:PUBLISH
X-PUBLISHED-TTL:P3D
REFRESH-INTERVAL:P3D
CALSCALE:GREGORIAN
BEGIN:VEVENT
DTSTART:20151003T140000Z
DTEND:20151003T200000Z
X-MICROSOFT-CDO-ALLDAYEVENT:FALSE
SUMMARY:Save Your Stones
DESCRIPTION:Save Your Stones\, tombstone preservation workshop\n\nco-sponsored by Red Wing Community Education\n\nPresentor Jarrod Roll\, Save Your Stones founder\n\nHands-on workshop\, take-home preservation kit\, and lunch included!
X-ALT-DESC;FMTTYPE=text/html:Save Your Stones\, tombstone preservation workshop<br />\nco-sponsored by Red Wing Community Education<br />\nPresentor Jarrod Roll\, Save Your Stones founder<br />\nHands-on workshop\, take-home preservation kit\, and lunch included!
LOCATION:Goodhue County Historical Society 1166 Oak St.\, Red Wing (Hands-on workshop at St. John's Cemetery
UID:e.621.4500
SEQUENCE:3
DTSTAMP:20260424T165646Z
URL:https://public.lakecity.org/events/details/save-your-stones-10-03-2015-4500
END:VEVENT

END:VCALENDAR
