BEGIN:VCALENDAR
VERSION:2.0
PRODID:-//ChamberMaster//Event Calendar 2.0//EN
METHOD:PUBLISH
X-PUBLISHED-TTL:P3D
REFRESH-INTERVAL:P3D
CALSCALE:GREGORIAN
BEGIN:VEVENT
DTSTART:20161214T190000Z
DTEND:20161214T210000Z
X-MICROSOFT-CDO-ALLDAYEVENT:FALSE
SUMMARY:Senior Health & Wellness Fair
DESCRIPTION:Beat the winter blues by visiting The Bluffs of Lake City for a Senior Health & Wellness Fair on December 14th\, with a special fall-prevention seminar. A variety of service providers from the surrounding area will be available for information and questions. 1:00 p.m. | Ready\, Steady\, Balance! Debbie Hanka\, PT\, DPT\, GCS\, CEEAA Clinical Program and Education Specialist\, Centrex Rehab Join us for a 30-minute presentation to learn about ways to remain active\, independent and fall free! In this discussion\, you'll learn about the problem of falls in older adults and action steps to take to improve your balance and reduce your risk of falls. 1:00 p.m.   3:00 p.m. | Senior Health and Wellness Fair Stop by to learn about and visit with these health and wellness providers: Aromatherapy | Centrex Rehab | Corner Home Medical |Eagle Valley Chiropractic | Lincare Medical | Mayo Clinic Health System |Home Instead Home Care | Visiting Angels Home Care | Pier 55 Senior Center |Reiki Energy and Massage | Semcac Community Action Agency | Simple Abundance
X-ALT-DESC;FMTTYPE=text/html:Beat the winter blues by visiting The Bluffs of Lake City for a Senior Health &amp\; Wellness Fair on December 14th\, with a special fall-prevention seminar. A variety of service providers from the surrounding area will be available for information and questions. 1:00 p.m. | Ready\, Steady\, Balance! Debbie Hanka\, PT\, DPT\, GCS\, CEEAA Clinical Program and Education Specialist\, Centrex Rehab Join us for a 30-minute presentation to learn about ways to remain active\, independent and fall free! In this discussion\, you&rsquo\;ll learn about the problem of falls in older adults and action steps to take to improve your balance and reduce your risk of falls. 1:00 p.m. &ndash\; 3:00 p.m. | Senior Health and Wellness Fair Stop by to learn about and visit with these health and wellness providers: Aromatherapy | Centrex Rehab | Corner Home Medical |Eagle Valley Chiropractic | Lincare Medical | Mayo Clinic Health System |Home Instead Home Care | Visiting Angels Home Care | Pier 55 Senior Center |Reiki Energy and Massage | Semcac Community Action Agency | Simple Abundance
LOCATION:The Bluffs of Lake City 480 West Grant Street Lake City\, MN 55041
UID:e.621.5644
SEQUENCE:3
DTSTAMP:20260422T084809Z
URL:https://public.lakecity.org/events/details/senior-health-wellness-fair-5644
END:VEVENT

END:VCALENDAR
