BEGIN:VCALENDAR
VERSION:2.0
PRODID:-//ChamberMaster//Event Calendar 2.0//EN
METHOD:PUBLISH
X-PUBLISHED-TTL:P3D
REFRESH-INTERVAL:P3D
CALSCALE:GREGORIAN
BEGIN:VEVENT
DTSTART:20160820T190000Z
DTEND:20160820T200000Z
X-MICROSOFT-CDO-ALLDAYEVENT:FALSE
SUMMARY:SeptOberfest - All About Hawks!
DESCRIPTION:Join a National Eagle Center naturalist as they present about the world of hawks. Plus\, meet a live red-tailed hawk up close
X-ALT-DESC;FMTTYPE=text/html:<span style="font-size:10pt">Join a National Eagle Center naturalist as they present about the world of hawks. Plus\, meet a live red-tailed hawk up close</span>
LOCATION:
UID:e.621.5431
SEQUENCE:3
DTSTAMP:20260422T154403Z
URL:https://public.lakecity.org/events/details/septoberfest-all-about-hawks-08-20-2016-5431
END:VEVENT

END:VCALENDAR
