BEGIN:VCALENDAR
VERSION:2.0
PRODID:-//ChamberMaster//Event Calendar 2.0//EN
METHOD:PUBLISH
X-PUBLISHED-TTL:P3D
REFRESH-INTERVAL:P3D
CALSCALE:GREGORIAN
BEGIN:VEVENT
DTSTART:20160930T190000Z
DTEND:20160930T200000Z
X-MICROSOFT-CDO-ALLDAYEVENT:FALSE
SUMMARY:SeptOberfest - Capture the Northern Lights!
DESCRIPTION:Join photographer Larry Ricker as he shows off some of his spectacular photography of the northern lights. Discuss his methods and gain advice on when\, where\, and how to capture this beautiful\, but often elusive\, natural phenomenon.
X-ALT-DESC;FMTTYPE=text/html:<span style="font-size:10pt">Join photographer Larry Ricker as he shows off some of his spectacular photography of the northern lights. Discuss his methods and gain advice on when\, where\, and how to capture this beautiful\, but often elusive\, natural phenomenon.</span><br />\n&nbsp\;
LOCATION:
UID:e.621.5425
SEQUENCE:3
DTSTAMP:20260422T132134Z
URL:https://public.lakecity.org/events/details/septoberfest-capture-the-northern-lights-09-30-2016-5425
END:VEVENT

END:VCALENDAR
