BEGIN:VCALENDAR
VERSION:2.0
PRODID:-//ChamberMaster//Event Calendar 2.0//EN
METHOD:PUBLISH
X-PUBLISHED-TTL:P3D
REFRESH-INTERVAL:P3D
CALSCALE:GREGORIAN
BEGIN:VEVENT
DTSTART;VALUE=DATE:20161020
DTEND;VALUE=DATE:20161021
TRANSP:TRANSPARENT
X-MICROSOFT-CDO-ALLDAYEVENT:TRUE
SUMMARY:SeptOberfest - Kid's Arts & Crafts
DESCRIPTION:Bring the kids and let their imaginations take flight! We'll have arts and crafts tables with materials to let them dream up some bird-themed creations
X-ALT-DESC;FMTTYPE=text/html:<span style="font-size:10pt">Bring the kids and let their imaginations take flight! We&rsquo\;ll have arts and crafts tables with materials to let them dream up some bird-themed creations</span>
LOCATION:
UID:e.621.5433
SEQUENCE:3
DTSTAMP:20260422T115249Z
URL:https://public.lakecity.org/events/details/septoberfest-kid-s-arts-crafts-10-20-2016-5433
END:VEVENT

END:VCALENDAR
