BEGIN:VCALENDAR
VERSION:2.0
PRODID:-//ChamberMaster//Event Calendar 2.0//EN
METHOD:PUBLISH
X-PUBLISHED-TTL:P3D
REFRESH-INTERVAL:P3D
CALSCALE:GREGORIAN
BEGIN:VEVENT
DTSTART:20161015T160000Z
DTEND:20161015T200000Z
X-MICROSOFT-CDO-ALLDAYEVENT:FALSE
SUMMARY:SeptOberfest - Midwest Peregrine Society
DESCRIPTION:Visit with falconer Jackie Fallon of the Midwest Peregrine Society as she introduces you to a peregrine falcon and talks about her work with these unique raptors
X-ALT-DESC;FMTTYPE=text/html:<span style="font-size:10pt">Visit with falconer Jackie Fallon of the Midwest Peregrine Society as she introduces you to a peregrine falcon and talks about her work with these unique raptors</span>
LOCATION:
UID:e.621.5426
SEQUENCE:3
DTSTAMP:20260422T115609Z
URL:https://public.lakecity.org/events/details/septoberfest-midwest-peregrine-society-10-15-2016-5426
END:VEVENT

END:VCALENDAR
