BEGIN:VCALENDAR
VERSION:2.0
PRODID:-//ChamberMaster//Event Calendar 2.0//EN
METHOD:PUBLISH
X-PUBLISHED-TTL:P3D
REFRESH-INTERVAL:P3D
CALSCALE:GREGORIAN
BEGIN:VEVENT
DTSTART;VALUE=DATE:20161020
DTEND;VALUE=DATE:20161021
TRANSP:TRANSPARENT
X-MICROSOFT-CDO-ALLDAYEVENT:TRUE
SUMMARY:SeptOberfest - Native American Arts with Dick Mindykowski
DESCRIPTION:Create your own deer antler or bison tooth necklace ($8) or design a walking stick ($20) with Dick Mindykowski\, member of the Lac Courte Oreilles Band of Lake Superior Chippewa
X-ALT-DESC;FMTTYPE=text/html:<span style="font-size:10pt">Create your own deer antler or bison tooth necklace ($8) or design a walking stick ($20) with Dick Mindykowski\, member of the Lac Courte Oreilles Band of Lake Superior Chippewa</span>
LOCATION:
UID:e.621.5432
SEQUENCE:3
DTSTAMP:20260422T115249Z
URL:https://public.lakecity.org/events/details/septoberfest-native-american-arts-with-dick-mindykowski-10-20-2016-5432
END:VEVENT

END:VCALENDAR
