BEGIN:VCALENDAR
VERSION:2.0
PRODID:-//ChamberMaster//Event Calendar 2.0//EN
METHOD:PUBLISH
X-PUBLISHED-TTL:P3D
REFRESH-INTERVAL:P3D
CALSCALE:GREGORIAN
BEGIN:VEVENT
DTSTART;VALUE=DATE:20161016
DTEND;VALUE=DATE:20161017
TRANSP:TRANSPARENT
X-MICROSOFT-CDO-ALLDAYEVENT:TRUE
SUMMARY:SeptOberfest - Native American Arts with Gordon Coons
DESCRIPTION:Discover the works of artist Gordon Coons. A self taught artist\, Gordon creates works in a variety of mediums including linoleum block prints\, paintings\, pen and ink\, creations in stone and wood and assembled sculptures. Although his artwork is more contemporary\, each piece portrays a unique view of traditional native stories.\n\n\n\nHis heritage is Ojibwa from Lake Superior Chippewa Band of Wisconsin (father) and Ottawa from Michigan (mother). He is an enrolled member of the Lac Courte Oreilles Tribe of northern Wisconsin. Originally from Wisconsin\, Gordon now calls Minneapolis\, Minnesota his home
X-ALT-DESC;FMTTYPE=text/html:<span style="font-size:10pt">Discover the works of artist Gordon Coons. A self taught artist\, Gordon creates works in a variety of mediums including linoleum block prints\, paintings\, pen and ink\, creations in stone and wood and assembled sculptures. Although his artwork is more contemporary\, each piece portrays a unique view of traditional native stories.</span><br />\n<br />\n<span style="font-size:10pt">His heritage is Ojibwa from Lake Superior Chippewa Band of Wisconsin (father) and Ottawa from Michigan (mother). He is an enrolled member of the Lac Courte Oreilles Tribe of northern Wisconsin. Originally from Wisconsin\, Gordon now calls Minneapolis\, Minnesota his home</span>
LOCATION:
UID:e.621.5429
SEQUENCE:3
DTSTAMP:20260422T115449Z
URL:https://public.lakecity.org/events/details/septoberfest-native-american-arts-with-gordon-coons-10-16-2016-5429
END:VEVENT

END:VCALENDAR
