BEGIN:VCALENDAR
VERSION:2.0
PRODID:-//ChamberMaster//Event Calendar 2.0//EN
METHOD:PUBLISH
X-PUBLISHED-TTL:P3D
REFRESH-INTERVAL:P3D
CALSCALE:GREGORIAN
BEGIN:VEVENT
DTSTART:20161022T050000Z
DTEND:20161022T200000Z
X-MICROSOFT-CDO-ALLDAYEVENT:FALSE
SUMMARY:SeptOberfest - Native American Culture Program with Larry Yazzie
DESCRIPTION:Join Two-Time World Champion Fancy Dancer Larry Yazzie\, member of The Sac & Fox Tribe of the Mississippi in Iowa/Meskwaki\, for native storytelling and fancy dance demonstration. (Rain location site TBD)\n\n\n\nShows at Noon and 2pm.
X-ALT-DESC;FMTTYPE=text/html:<span style="font-size:10pt">Join Two-Time World Champion Fancy Dancer Larry Yazzie\, member of The Sac &amp\; Fox Tribe of the Mississippi in Iowa/Meskwaki\, for native storytelling and fancy dance demonstration. <strong><em>(Rain location site TBD)</em><br />\n<br />\nShows at Noon and 2pm.</strong></span>
LOCATION:
UID:e.621.5442
SEQUENCE:3
DTSTAMP:20260422T115546Z
URL:https://public.lakecity.org/events/details/septoberfest-native-american-culture-program-with-larry-yazzie-10-22-2016-5442
END:VEVENT

END:VCALENDAR
