BEGIN:VCALENDAR
VERSION:2.0
PRODID:-//ChamberMaster//Event Calendar 2.0//EN
METHOD:PUBLISH
X-PUBLISHED-TTL:P3D
REFRESH-INTERVAL:P3D
CALSCALE:GREGORIAN
BEGIN:VEVENT
DTSTART;VALUE=DATE:20161022
DTEND;VALUE=DATE:20161023
TRANSP:TRANSPARENT
X-MICROSOFT-CDO-ALLDAYEVENT:TRUE
SUMMARY:SeptOberfest - Petting Zoo
DESCRIPTION:Experience a variety of animals up close at the petting zoo! Meet animals\, ask questions and feel the hair and fur of animals including goats\, rabbits\, pigs\, llamas and more
X-ALT-DESC;FMTTYPE=text/html:<span style="font-size:10pt">Experience a variety of animals up close at the petting zoo! Meet animals\, ask questions and feel the hair and fur of animals including goats\, rabbits\, pigs\, llamas and more</span>
LOCATION:
UID:e.621.5440
SEQUENCE:3
DTSTAMP:20260422T115249Z
URL:https://public.lakecity.org/events/details/septoberfest-petting-zoo-10-22-2016-5440
END:VEVENT

END:VCALENDAR
