BEGIN:VCALENDAR
VERSION:2.0
PRODID:-//ChamberMaster//Event Calendar 2.0//EN
METHOD:PUBLISH
X-PUBLISHED-TTL:P3D
REFRESH-INTERVAL:P3D
CALSCALE:GREGORIAN
BEGIN:VEVENT
DTSTART:20161020T170000Z
DTEND:20161020T180000Z
X-MICROSOFT-CDO-ALLDAYEVENT:FALSE
SUMMARY:SeptOberfest - Raptors of the Midwest
DESCRIPTION:Meet raptors\, both big and small\, arriving from Eagle Bluff Environmental Learning Center in Lanesboro\, MN! Learn more about the raptor families found right here in Minnesota and what you can do to help ensure their success in the wild
X-ALT-DESC;FMTTYPE=text/html:<span style="font-size:10pt">Meet raptors\, both big and small\, arriving from Eagle Bluff Environmental Learning Center in Lanesboro\, MN! Learn more about the raptor families found right here in Minnesota and what you can do to help ensure their success in the wild</span>
LOCATION:
UID:e.621.5430
SEQUENCE:3
DTSTAMP:20260422T115545Z
URL:https://public.lakecity.org/events/details/septoberfest-raptors-of-the-midwest-10-20-2016-5430
END:VEVENT

END:VCALENDAR
