BEGIN:VCALENDAR
VERSION:2.0
PRODID:-//ChamberMaster//Event Calendar 2.0//EN
METHOD:PUBLISH
X-PUBLISHED-TTL:P3D
REFRESH-INTERVAL:P3D
CALSCALE:GREGORIAN
BEGIN:VEVENT
DTSTART:20160929T220000Z
DTEND:20160929T233000Z
X-MICROSOFT-CDO-ALLDAYEVENT:FALSE
SUMMARY:SeptOberfest - Watershed Gallery Exhibit Opening
DESCRIPTION:Join the National Eagle Center as we kick-off a season-long celebration of Native American art\, including Native American Heritage Month in November! Come learn about the history and meaning behind some beautiful and engaging pieces as the National Eagle Center's Watershed Gallery displays works from Native American artists Dick Mindykowski\, Gordon Coons and woodcarver Mike Maher
X-ALT-DESC;FMTTYPE=text/html:<span style="font-size:10pt">Join the National Eagle Center as we kick-off a season-long celebration of Native American art\, including Native American Heritage Month in November! Come learn about the history and meaning behind some beautiful and engaging pieces as the National Eagle Center&rsquo\;s Watershed Gallery displays works from Native American artists Dick Mindykowski\, Gordon Coons and woodcarver Mike Maher</span>
LOCATION:
UID:e.621.5424
SEQUENCE:3
DTSTAMP:20260422T132037Z
URL:https://public.lakecity.org/events/details/septoberfest-watershed-gallery-exhibit-opening-09-29-2016-5424
END:VEVENT

END:VCALENDAR
