BEGIN:VCALENDAR
VERSION:2.0
PRODID:-//ChamberMaster//Event Calendar 2.0//EN
METHOD:PUBLISH
X-PUBLISHED-TTL:P3D
REFRESH-INTERVAL:P3D
CALSCALE:GREGORIAN
BEGIN:VEVENT
DTSTART;VALUE=DATE:20150302
DTEND;VALUE=DATE:20150401
TRANSP:TRANSPARENT
X-MICROSOFT-CDO-ALLDAYEVENT:TRUE
SUMMARY:Shear Wizards Luck of the Draw
DESCRIPTION:Enjoy anywhere from 5% off to 25% off Retail all month long! Or draw for a give-away!! How lucky are YOU!
X-ALT-DESC;FMTTYPE=text/html:Enjoy anywhere from 5% off to 25% off Retail all month long! Or draw for a give-away!! How lucky are YOU!
LOCATION:Shear Wizards Salon
UID:e.621.4368
SEQUENCE:3
DTSTAMP:20260425T032932Z
URL:https://public.lakecity.org/events/details/shear-wizards-luck-of-the-draw-03-02-2015-4368
END:VEVENT

END:VCALENDAR
