BEGIN:VCALENDAR
VERSION:2.0
PRODID:-//ChamberMaster//Event Calendar 2.0//EN
METHOD:PUBLISH
X-PUBLISHED-TTL:P3D
REFRESH-INTERVAL:P3D
CALSCALE:GREGORIAN
BEGIN:VEVENT
DTSTART:20211219T013000Z
DTEND:20211219T030000Z
X-MICROSOFT-CDO-ALLDAYEVENT:FALSE
SUMMARY:Sheldon Theatre - The New Standards Holiday Show
DESCRIPTION:Celebrating its 14th anniversary season in 2021\, The New Standards Holiday Show rings in the yule with a unique twist on traditional holiday concerts one part variety show\, one part homage to the season\, one part irreverent\, free-wheeling spectacle.\n\nThe trio is joined by a supporting cast replete with vocalists\, instrumentalists\, dancers\, and as always\, a dazzling lineup of special surprise guests. You won't soon forget this show that has become a beloved annual tradition in the Twin Cities and beyond.
X-ALT-DESC;FMTTYPE=text/html:<p style="box-sizing: border-box\; margin-top: 0.85em\; margin-right: 0px\; margin-bottom: var(--tec-spacer-3)\; margin-left: 0px\; padding: 0px\; border: 0px rgb(248\, 248\, 248)\; font-variant-numeric: inherit\; font-variant-east-asian: inherit\; font-stretch: inherit\; font-size: 18px\; line-height: var(--tec-line-height-2)\; font-family: &quot\;Helvetica Neue&quot\;\, Helvetica\, -apple-system\, BlinkMacSystemFont\, Roboto\, Arial\, sans-serif\; vertical-align: baseline\; color: rgb(41\, 41\, 41)\;">Celebrating its 14th anniversary season in 2021\, The New Standards Holiday Show rings in the yule with a unique twist on traditional holiday concerts&mdash\;one part variety show\, one part homage to the season\, one part irreverent\, free-wheeling spectacle.</p>\n\n<p style="box-sizing: border-box\; margin-top: 0.85em\; margin-right: 0px\; margin-bottom: var(--tec-spacer-6)\; margin-left: 0px\; padding: 0px\; border: 0px rgb(248\, 248\, 248)\; font-variant-numeric: inherit\; font-variant-east-asian: inherit\; font-stretch: inherit\; font-size: 18px\; line-height: var(--tec-line-height-2)\; font-family: &quot\;Helvetica Neue&quot\;\, Helvetica\, -apple-system\, BlinkMacSystemFont\, Roboto\, Arial\, sans-serif\; vertical-align: baseline\; color: rgb(41\, 41\, 41)\;">The trio is joined by a supporting cast replete with vocalists\, instrumentalists\, dancers\, and as always\, a dazzling lineup of special surprise guests. You won&rsquo\;t soon forget this show that has become a beloved annual tradition in the Twin Cities and beyond.</p>\n
LOCATION:Sheldon Theatre 443 West 3rd St Red Wing\, 55066 United
UID:e.621.8520
SEQUENCE:3
DTSTAMP:20260423T162347Z
URL:https://public.lakecity.org/events/details/sheldon-theatre-the-new-standards-holiday-show-8520
END:VEVENT

END:VCALENDAR
