BEGIN:VCALENDAR
VERSION:2.0
PRODID:-//ChamberMaster//Event Calendar 2.0//EN
METHOD:PUBLISH
X-PUBLISHED-TTL:P3D
REFRESH-INTERVAL:P3D
CALSCALE:GREGORIAN
BEGIN:VEVENT
DTSTART:20171125T160000Z
DTEND:20171125T230000Z
X-MICROSOFT-CDO-ALLDAYEVENT:FALSE
SUMMARY:Shop Small Business Saturday
DESCRIPTION:
X-ALT-DESC;FMTTYPE=text/html:
LOCATION:
UID:e.621.6797
SEQUENCE:3
DTSTAMP:20260421T170502Z
URL:https://public.lakecity.org/events/details/shop-small-business-saturday-6797
END:VEVENT

END:VCALENDAR
