BEGIN:VCALENDAR
VERSION:2.0
PRODID:-//ChamberMaster//Event Calendar 2.0//EN
METHOD:PUBLISH
X-PUBLISHED-TTL:P3D
REFRESH-INTERVAL:P3D
CALSCALE:GREGORIAN
BEGIN:VEVENT
DTSTART;VALUE=DATE:20161126
DTEND;VALUE=DATE:20161127
TRANSP:TRANSPARENT
X-MICROSOFT-CDO-ALLDAYEVENT:TRUE
SUMMARY:Shop Small Saturday
DESCRIPTION:Behind every small business is a dream worth supporting. What better way to support our neighborhood businesses than to embrace the holiday shopping spirit right here in Lake City\, MN.\n\n\n\nSupport your community and shop local!
X-ALT-DESC;FMTTYPE=text/html:<span style="color:#403F42\;"><span style="font-family:arial\,sans-serif\;"><span style="font-size:14.0pt\;">Behind every small business is a dream worth supporting. What better way to support our neighborhood businesses than to embrace the holiday shopping spirit right here in Lake City\, MN.<br />\n<br />\nSupport your community and shop local!</span></span></span>
LOCATION:Various Retailers Lake City\, MN 55041
UID:e.621.5484
SEQUENCE:3
DTSTAMP:20260422T101340Z
URL:https://public.lakecity.org/events/details/shop-small-saturday-5484
END:VEVENT

END:VCALENDAR
