BEGIN:VCALENDAR
VERSION:2.0
PRODID:-//ChamberMaster//Event Calendar 2.0//EN
METHOD:PUBLISH
X-PUBLISHED-TTL:P3D
REFRESH-INTERVAL:P3D
CALSCALE:GREGORIAN
BEGIN:VEVENT
DTSTART:20160627T233000Z
DTEND:20160628T020000Z
X-MICROSOFT-CDO-ALLDAYEVENT:FALSE
SUMMARY:Show and Share Artists Meeting
DESCRIPTION:Lake City Show & Share Artists meet monthly at members homes to share their art and learn from one another. We are currently planning our next exhibit titled "Reflections" to be held at the Lake City Marina in July\, in collaboration with the Lake City Photography Group.
X-ALT-DESC;FMTTYPE=text/html:Lake City Show &amp\; Share Artists meet monthly at members homes to share their art and learn from one another. We are currently planning our next exhibit titled &quot\;Reflections&quot\; to be held at the Lake City Marina in July\, in collaboration with the Lake City Photography Group.
LOCATION:Jean and Dave Matheny 221 South Oak Street Lake City
UID:e.621.5269
SEQUENCE:3
DTSTAMP:20260422T170305Z
URL:https://public.lakecity.org/events/details/show-and-share-artists-meeting-06-27-2016-5269
END:VEVENT

END:VCALENDAR
