BEGIN:VCALENDAR
VERSION:2.0
PRODID:-//ChamberMaster//Event Calendar 2.0//EN
METHOD:PUBLISH
X-PUBLISHED-TTL:P3D
REFRESH-INTERVAL:P3D
CALSCALE:GREGORIAN
BEGIN:VEVENT
DTSTART:20160725T233000Z
DTEND:20160726T020000Z
X-MICROSOFT-CDO-ALLDAYEVENT:FALSE
SUMMARY:Show & Share Artists Meeting
DESCRIPTION:Lake City Show & Share Artists meet monthly at members homes to share their art and learn from one another.
X-ALT-DESC;FMTTYPE=text/html:Lake City Show &amp\; Share Artists meet monthly at members homes to share their art and learn from one another.
LOCATION:To be determined
UID:e.621.5270
SEQUENCE:3
DTSTAMP:20260422T155205Z
URL:https://public.lakecity.org/events/details/show-share-artists-meeting-07-25-2016-5270
END:VEVENT

END:VCALENDAR
