BEGIN:VCALENDAR
VERSION:2.0
PRODID:-//ChamberMaster//Event Calendar 2.0//EN
METHOD:PUBLISH
X-PUBLISHED-TTL:P3D
REFRESH-INTERVAL:P3D
CALSCALE:GREGORIAN
BEGIN:VEVENT
DTSTART:20150404T130000Z
DTEND:20150404T160000Z
X-MICROSOFT-CDO-ALLDAYEVENT:FALSE
SUMMARY:Small Animal Swap Meet
DESCRIPTION:Small Animal Swap Meet All buyers and sellers welcomed. The Wabasha County Agricultural Fair Association only provides a location for buyers and sellers to meet. We have no idea what animals may be available. All animals must be contained at all times. All MN Board of Health rules must be followed
X-ALT-DESC;FMTTYPE=text/html:Small Animal Swap Meet All buyers and sellers welcomed. The Wabasha County Agricultural Fair Association only provides a location for buyers and sellers to meet. We have no idea what animals may be available. All animals must be contained at all times. All MN Board of Health rules must be followed
LOCATION:Wabasha County Fairgrounds 99 Coulee Way Wabasha MN Just off the intersection of Hwy 61 & Hwy 60
UID:e.621.4409
SEQUENCE:3
DTSTAMP:20260425T031949Z
URL:https://public.lakecity.org/events/details/small-animal-swap-meet-04-04-2015-4409
END:VEVENT

END:VCALENDAR
