BEGIN:VCALENDAR
VERSION:2.0
PRODID:-//ChamberMaster//Event Calendar 2.0//EN
METHOD:PUBLISH
X-PUBLISHED-TTL:P3D
REFRESH-INTERVAL:P3D
CALSCALE:GREGORIAN
BEGIN:VEVENT
DTSTART;VALUE=DATE:20151128
DTEND;VALUE=DATE:20151129
TRANSP:TRANSPARENT
X-MICROSOFT-CDO-ALLDAYEVENT:TRUE
SUMMARY:Small Business Saturday
DESCRIPTION:Support local businesses and invigorate our community!\n\n\n\nShop Small. Shop Lake City. You're already here!
X-ALT-DESC;FMTTYPE=text/html:Support local businesses and invigorate our community!<br />\n<br />\nShop Small. Shop Lake City. You&#39\;re already here!
LOCATION:
UID:e.621.2868
SEQUENCE:3
DTSTAMP:20260424T153336Z
URL:https://public.lakecity.org/events/details/small-business-saturday-11-28-2015-2868
END:VEVENT

END:VCALENDAR
