BEGIN:VCALENDAR
VERSION:2.0
PRODID:-//ChamberMaster//Event Calendar 2.0//EN
METHOD:PUBLISH
X-PUBLISHED-TTL:P3D
REFRESH-INTERVAL:P3D
CALSCALE:GREGORIAN
BEGIN:VEVENT
DTSTART:20150410T220000Z
DTEND:20150411T010000Z
X-MICROSOFT-CDO-ALLDAYEVENT:FALSE
SUMMARY:Smelt Feed and Fish Fry
DESCRIPTION:Smelt Feed and Fish Fry includes batterfried smelt and/or cod\, potato\, beans\, coleslaw\, dinner roll\, coffe/milk and dessert.
X-ALT-DESC;FMTTYPE=text/html:Smelt Feed and Fish Fry includes batterfried smelt and/or cod\, potato\, beans\, coleslaw\, dinner roll\, coffe/milk and dessert.
LOCATION:Lake City Sportsman's Club 2200 South Oak Street Lake City MN
UID:e.621.4413
SEQUENCE:3
DTSTAMP:20260425T015427Z
URL:https://public.lakecity.org/events/details/smelt-feed-and-fish-fry-04-10-2015-4413
END:VEVENT

END:VCALENDAR
