BEGIN:VCALENDAR
VERSION:2.0
PRODID:-//ChamberMaster//Event Calendar 2.0//EN
METHOD:PUBLISH
X-PUBLISHED-TTL:P3D
REFRESH-INTERVAL:P3D
CALSCALE:GREGORIAN
BEGIN:VEVENT
DTSTART:20170421T223000Z
DTEND:20170422T010000Z
X-MICROSOFT-CDO-ALLDAYEVENT:FALSE
SUMMARY:Smelt Feed and Fish Fry
DESCRIPTION:Lake City Sportsman's Club smelt feed and fish fry. Dinner includes: batter fried smelt and cod\, potato\, beans\, coleslaw\, dinner roll\, milk or coffee and a sweet treat for dessert. Bar opens at 5:00 pm. Call-in take outs available but please allow about 20 minute wait to pick up. Everyone is welcome.
X-ALT-DESC;FMTTYPE=text/html:Lake City Sportsman&#39\;s Club smelt feed and fish fry. Dinner includes: batter fried smelt and cod\, potato\, beans\, coleslaw\, dinner roll\, milk or coffee and a sweet treat for dessert. Bar opens at 5:00 pm. Call-in take outs available but please allow about 20 minute wait to pick up. Everyone is welcome.
LOCATION:Lake City Sportsman's Club 2200 South Oak Street Lake City MN
UID:e.621.5717
SEQUENCE:3
DTSTAMP:20260422T025143Z
URL:https://public.lakecity.org/events/details/smelt-feed-and-fish-fry-04-21-2017-5717
END:VEVENT

END:VCALENDAR
