BEGIN:VCALENDAR
VERSION:2.0
PRODID:-//ChamberMaster//Event Calendar 2.0//EN
METHOD:PUBLISH
X-PUBLISHED-TTL:P3D
REFRESH-INTERVAL:P3D
CALSCALE:GREGORIAN
BEGIN:VEVENT
DTSTART:20170421T220000Z
DTEND:20170422T010000Z
X-MICROSOFT-CDO-ALLDAYEVENT:FALSE
SUMMARY:Smelt Feed and Fish Fry
DESCRIPTION:Lake City Sportsman's Club SMELT AND FISH FRY. Dinner includes: batter fried smelt and cod\, potato\, beans\, coleslaw\, dinner roll\, milk or coffee and a sweet treat for dessert. Bar opens at 4:30 pm. Call-in take outs available but please allow about 20-minute wait to pick up. Everyone is welcome.
X-ALT-DESC;FMTTYPE=text/html:Lake City Sportsman&#39\;s Club SMELT AND FISH FRY. Dinner includes: batter fried smelt and cod\, potato\, beans\, coleslaw\, dinner roll\, milk or coffee and a sweet treat for dessert. Bar opens at 4:30 pm. Call-in take outs available but please allow about 20-minute wait to pick up. Everyone is welcome.
LOCATION:2200 S Oak Street Lake City MN 55041
UID:e.621.5702
SEQUENCE:3
DTSTAMP:20260422T025117Z
URL:https://public.lakecity.org/events/details/smelt-feed-and-fish-fry-5702
END:VEVENT

END:VCALENDAR
