BEGIN:VCALENDAR
VERSION:2.0
PRODID:-//ChamberMaster//Event Calendar 2.0//EN
METHOD:PUBLISH
X-PUBLISHED-TTL:P3D
REFRESH-INTERVAL:P3D
CALSCALE:GREGORIAN
BEGIN:VEVENT
DTSTART:20160320T150000Z
DTEND:20160320T220000Z
X-MICROSOFT-CDO-ALLDAYEVENT:FALSE
SUMMARY:SOAR With the Eagles!
DESCRIPTION:Every year as winter turns to spring\, we celebrate the spring bald eagle migration with our SOAR with the Eagles festival. Each weekend we offer special programs and events at venues throughout Wabasha. Bring the whole family   there is something for everyone! Experience flying birds shows\, meet live animals\, see wild eagles   join us weekends in March!
X-ALT-DESC;FMTTYPE=text/html:<span style="color:rgb(0\, 0\, 0)\; font-family:arial\,helvetica\,sans-serif\; font-size:16px">Every year as winter turns to spring\, we celebrate the spring bald eagle migration with our&nbsp\;</span><span style="font-size:16px"><span style="font-family:arial\,helvetica\,sans-serif"><strong>SOAR with the Eagles</strong></span></span><span style="color:rgb(0\, 0\, 0)\; font-family:arial\,helvetica\,sans-serif\; font-size:16px">&nbsp\;festival. Each weekend we offer special programs and events at venues throughout Wabasha.&nbsp\;Bring the whole family &ndash\; there is something for everyone! Experience flying birds shows\, meet live animals\, see wild eagles &ndash\; join us weekends in March!</span>
LOCATION:National Eagle Center\, 50 Pembroke Avenue\, Wabasha\, MN 55981
UID:e.621.4760
SEQUENCE:3
DTSTAMP:20260424T084953Z
URL:https://public.lakecity.org/events/details/soar-with-the-eagles-03-20-2016-4760
END:VEVENT

END:VCALENDAR
