BEGIN:VCALENDAR
VERSION:2.0
PRODID:-//ChamberMaster//Event Calendar 2.0//EN
METHOD:PUBLISH
X-PUBLISHED-TTL:P3D
REFRESH-INTERVAL:P3D
CALSCALE:GREGORIAN
BEGIN:VEVENT
DTSTART:20160304T230000Z
DTEND:20160305T010000Z
X-MICROSOFT-CDO-ALLDAYEVENT:FALSE
SUMMARY:SOAR With the Eagles 2016 Kick-Off Party
DESCRIPTION:Join the National Eagle Center in Wabasha for a special start to SOAR! Enjoy a presentation on the life and work of famed artist/naturalist John James Audubon (as portrayed by storyteller Brian "Fox" Ellis). Plus\, we'll unveil our newest exhibit   Discover the Refuge! Learn about the process of creating the exhibit and refuge mural with Education Director Scott Mehus and artist Sue Mundy .\n\nTwo lucky guests will walk away with a gift certificate for a Broken Paddle Guided Flooded Forest Kayak Tour! (must be present to win)
X-ALT-DESC;FMTTYPE=text/html:<p>Join the National Eagle Center in Wabasha&nbsp\;for a special start to SOAR! Enjoy a presentation on the life and work of famed artist/naturalist&nbsp\;John James Audubon (as portrayed by storyteller Brian &ldquo\;Fox&rdquo\; Ellis). Plus\, we&rsquo\;ll unveil our newest exhibit &ndash\;&nbsp\;<strong><em>Discover the Refuge!</em></strong>&nbsp\;Learn about the process of creating the exhibit and refuge mural with Education Director Scott Mehus and artist Sue Mundy .</p>\n\n<p>Two lucky guests will walk away with a gift certificate for a&nbsp\;<a href="http://brokenpaddleguiding.com/flooded-forest-tour" style="box-sizing: border-box\; text-decoration: none\; color: rgb(30\, 115\, 190)\;">Broken Paddle Guided Flooded Forest Kayak Tour</a>!&nbsp\;<em>(must be present to win)</em></p>\n
LOCATION:National Eagle Center - 50 Pembroke Avenue\, Wabasha\, MN 55981
UID:e.621.4754
SEQUENCE:3
DTSTAMP:20260424T085209Z
URL:https://public.lakecity.org/events/details/soar-with-the-eagles-2016-kick-off-party-03-04-2016-4754
END:VEVENT

END:VCALENDAR
