BEGIN:VCALENDAR
VERSION:2.0
PRODID:-//ChamberMaster//Event Calendar 2.0//EN
METHOD:PUBLISH
X-PUBLISHED-TTL:P3D
REFRESH-INTERVAL:P3D
CALSCALE:GREGORIAN
BEGIN:VEVENT
DTSTART:20150717T003000Z
DTEND:20150717T020000Z
X-MICROSOFT-CDO-ALLDAYEVENT:FALSE
SUMMARY:Songs of Hope Concert
DESCRIPTION:Songs of Hope\, based in St. Paul\, Minnesota\, brings over 50 youth age 10-22 from more than 13 countries to the First Congregational Church\, UCC\, in Lake City\, to offer a 90 minute\, high-energy performance of singing and dancing accompanied by a five-piece band of Twin Cities musicians. Music includes U.S. rock and roll\, Turkish pop\, and traditional songs from various countries\, complete with costume changes and traditional dances. The 2015 tour offers a special tribute to the music of New Orleans to commemorate the tenth anniversary of Hurricane Katrina. The concert is Thursday\, July 16\, at 7:30 p.m. Doors open at 6:45 p.m. and admission is free. The First Congregational Church\, UCC\, is handicapped accessible and is located at 220 West Lyon Avenue in Lake City\, Minnesota. More information can be found online at soundsofhope.org.
X-ALT-DESC;FMTTYPE=text/html:Songs of Hope\, based in St. Paul\, Minnesota\, brings over 50 youth age 10-22 from more than 13 countries to the First Congregational Church\, UCC\, in Lake City\, to offer a 90 minute\, high-energy performance of singing and dancing accompanied by a five-piece band of Twin Cities musicians. Music includes U.S. rock and roll\, Turkish pop\, and traditional songs from various countries\, complete with costume changes and traditional dances. The 2015 tour offers a special tribute to the music of New Orleans to commemorate the tenth anniversary of Hurricane Katrina. The concert is Thursday\, July 16\, at 7:30 p.m. Doors open at 6:45 p.m. and admission is free. The First Congregational Church\, UCC\, is handicapped accessible and is located at 220 West Lyon Avenue in Lake City\, Minnesota. More information can be found online at soundsofhope.org.
LOCATION:First Congregational Church\, UCC 220 West Lyon Ave. Lake City\, MN
UID:e.621.4469
SEQUENCE:3
DTSTAMP:20260424T213447Z
URL:https://public.lakecity.org/events/details/songs-of-hope-concert-07-16-2015-4469
END:VEVENT

END:VCALENDAR
